View In:
ArcGIS JavaScript
ArcGIS Online map viewer
Google Earth
ArcMap
ArcGIS Explorer
View Footprint In:
ArcGIS Online map viewer
Service Description: Cache of NU electric data
Map Name: Layers
Legend
All Layers and Tables
Layers:
-
1:282 (0)
-
1:564 (2)
-
1:1,129 (4)
-
1:2,257 (6)
-
1:4,514 (8)
-
1:9,028 (10)
-
1:18,056 (12)
-
1:36,112 (14)
-
1:72,224 (16)
-
1:144,448 (18)
-
1:288,896 (20)
-
1:577,791 (22)
-
1:1,155,582 (24)
-
1:2,311,163 (26)
Description:
Copyright Text:
Spatial Reference:
102100
(3857)
Single Fused Map Cache: true
Tile Info:
- Height: 256
- Width: 256
- DPI: 96
-
Levels of Detail: 20
-
Level ID: 0
[ Start Tile, End Tile ]
- Resolution: 156543.03392800014
- Scale: 5.91657527591555E8
-
Level ID: 1
[ Start Tile, End Tile ]
- Resolution: 78271.51696399994
- Scale: 2.95828763795777E8
-
Level ID: 2
[ Start Tile, End Tile ]
- Resolution: 39135.75848200009
- Scale: 1.47914381897889E8
-
Level ID: 3
[ Start Tile, End Tile ]
- Resolution: 19567.87924099992
- Scale: 7.3957190948944E7
-
Level ID: 4
[ Start Tile, End Tile ]
- Resolution: 9783.93962049996
- Scale: 3.6978595474472E7
-
Level ID: 5
[ Start Tile, End Tile ]
- Resolution: 4891.96981024998
- Scale: 1.8489297737236E7
- Format: PNG8
- Compression Quality: 0.0
- Origin: X: -2.0037508342787E7
Y: 2.0037508342787E7
- Spatial Reference: 102100
(3857)
Initial Extent:
XMin: -8088329.4250628175
YMin: 5162763.884212767
XMax: -7639944.21978177
YMax: 5261982.832650664
Spatial Reference: 102100
(3857)
Full Extent:
XMin: -8105851.069148662
YMin: 5029134.960040026
XMax: -7640577.53221861
YMax: 5267260.436290978
Spatial Reference: 102100
(3857)
Units: esriMeters
Supported Image Format Types: PNG32,PNG24,PNG,JPG,DIB,TIFF,EMF,PS,PDF,GIF,SVG,SVGZ,BMP
Document Info:
Title: tlewis
Author: jkwebber
Comments: Cache of NU electric data
Subject: NU Electric Cache
Category:
Keywords: NU,Electric
AntialiasingMode: None
TextAntialiasingMode: Force
Supports Dynamic Layers: false
MaxRecordCount: 1000
MaxImageHeight: 4096
MaxImageWidth: 4096
Supported Query Formats: JSON, AMF, geoJSON
Min Scale: 2311162.217155
Max Scale: 1128.497176
Child Resources:
Info
Supported Operations:
Export Map
Identify
Find
Return Updates